Workbook

Sheet Seed Games
A1: Team Name | B1: G1 For | C1: G1 Against | D1: G2 For | E1: G2 Against | F1: G3 For | G1: G3 Against | H1: Wins and Loses | K1: Wins | L1: Losses | M1: Ties | N1: Runs For | O1: Runs Against
H2: =IF(P2=Q2,"",Q2) | I2: =IF(R2=S2,"",S2) | J2: =IF(T2=U2,"",U2) | K2: =COUNTIF(H2:J2,"W") -> 0 | L2: =COUNTIF(H2:J2,"L") -> 0 | M2: =COUNTBLANK(H2:J2) -> 3 | N2: =B2+D2+F2 -> 0 | O2: =C2+E2+G2 -> 0 | P2: =IF(B2-C2<0,"W","L") -> L | Q2: =IF(B2-C2>0,"W","L") -> L | R2: =IF(D2-E2<0,"W","L") -> L | S2: =IF(D2-E2>0,"W","L") -> L | T2: =IF(F2-G2<0,"W","L") -> L | U2: =IF(F2-G2>0,"W","L") -> L
H3: =IF(P3=Q3,"",Q3) | I3: =IF(R3=S3,"",S3) | J3: =IF(T3=U3,"",U3) | K3: =COUNTIF(H3:J3,"W") -> 0 | L3: =COUNTIF(H3:J3,"L") -> 0 | M3: =COUNTBLANK(H3:J3) -> 3 | N3: =B3+D3+F3 -> 0 | O3: =C3+E3+G3 -> 0 | P3: =IF(B3-C3<0,"W","L") -> L | Q3: =IF(B3-C3>0,"W","L") -> L | R3: =IF(D3-E3<0,"W","L") -> L | S3: =IF(D3-E3>0,"W","L") -> L | T3: =IF(F3-G3<0,"W","L") -> L | U3: =IF(F3-G3>0,"W","L") -> L
H4: =IF(P4=Q4,"",Q4) | I4: =IF(R4=S4,"",S4) | J4: =IF(T4=U4,"",U4) | K4: =COUNTIF(H4:J4,"W") -> 0 | L4: =COUNTIF(H4:J4,"L") -> 0 | M4: =COUNTBLANK(H4:J4) -> 3 | N4: =B4+D4+F4 -> 0 | O4: =C4+E4+G4 -> 0 | P4: =IF(B4-C4<0,"W","L") -> L | Q4: =IF(B4-C4>0,"W","L") -> L | R4: =IF(D4-E4<0,"W","L") -> L | S4: =IF(D4-E4>0,"W","L") -> L | T4: =IF(F4-G4<0,"W","L") -> L | U4: =IF(F4-G4>0,"W","L") -> L
H5: =IF(P5=Q5,"",Q5) | I5: =IF(R5=S5,"",S5) | J5: =IF(T5=U5,"",U5) | K5: =COUNTIF(H5:J5,"W") -> 0 | L5: =COUNTIF(H5:J5,"L") -> 0 | M5: =COUNTBLANK(H5:J5) -> 3 | N5: =B5+D5+F5 -> 0 | O5: =C5+E5+G5 -> 0 | P5: =IF(B5-C5<0,"W","L") -> L | Q5: =IF(B5-C5>0,"W","L") -> L | R5: =IF(D5-E5<0,"W","L") -> L | S5: =IF(D5-E5>0,"W","L") -> L | T5: =IF(F5-G5<0,"W","L") -> L | U5: =IF(F5-G5>0,"W","L") -> L
H6: =IF(P6=Q6,"",Q6) | I6: =IF(R6=S6,"",S6) | J6: =IF(T6=U6,"",U6) | K6: =COUNTIF(H6:J6,"W") -> 0 | L6: =COUNTIF(H6:J6,"L") -> 0 | M6: =COUNTBLANK(H6:J6) -> 3 | N6: =B6+D6+F6 -> 0 | O6: =C6+E6+G6 -> 0 | P6: =IF(B6-C6<0,"W","L") -> L | Q6: =IF(B6-C6>0,"W","L") -> L | R6: =IF(D6-E6<0,"W","L") -> L | S6: =IF(D6-E6>0,"W","L") -> L | T6: =IF(F6-G6<0,"W","L") -> L | U6: =IF(F6-G6>0,"W","L") -> L
H7: =IF(P7=Q7,"",Q7) | I7: =IF(R7=S7,"",S7) | J7: =IF(T7=U7,"",U7) | K7: =COUNTIF(H7:J7,"W") -> 0 | L7: =COUNTIF(H7:J7,"L") -> 0 | M7: =COUNTBLANK(H7:J7) -> 3 | N7: =B7+D7+F7 -> 0 | O7: =C7+E7+G7 -> 0 | P7: =IF(B7-C7<0,"W","L") -> L | Q7: =IF(B7-C7>0,"W","L") -> L | R7: =IF(D7-E7<0,"W","L") -> L | S7: =IF(D7-E7>0,"W","L") -> L | T7: =IF(F7-G7<0,"W","L") -> L | U7: =IF(F7-G7>0,"W","L") -> L
H8: =IF(P8=Q8,"",Q8) | I8: =IF(R8=S8,"",S8) | J8: =IF(T8=U8,"",U8) | K8: =COUNTIF(H8:J8,"W") -> 0 | L8: =COUNTIF(H8:J8,"L") -> 0 | M8: =COUNTBLANK(H8:J8) -> 3 | N8: =B8+D8+F8 -> 0 | O8: =C8+E8+G8 -> 0 | P8: =IF(B8-C8<0,"W","L") -> L | Q8: =IF(B8-C8>0,"W","L") -> L | R8: =IF(D8-E8<0,"W","L") -> L | S8: =IF(D8-E8>0,"W","L") -> L | T8: =IF(F8-G8<0,"W","L") -> L | U8: =IF(F8-G8>0,"W","L") -> L
H9: =IF(P9=Q9,"",Q9) | I9: =IF(R9=S9,"",S9) | J9: =IF(T9=U9,"",U9) | K9: =COUNTIF(H9:J9,"W") -> 0 | L9: =COUNTIF(H9:J9,"L") -> 0 | M9: =COUNTBLANK(H9:J9) -> 3 | N9: =B9+D9+F9 -> 0 | O9: =C9+E9+G9 -> 0 | P9: =IF(B9-C9<0,"W","L") -> L | Q9: =IF(B9-C9>0,"W","L") -> L | R9: =IF(D9-E9<0,"W","L") -> L | S9: =IF(D9-E9>0,"W","L") -> L | T9: =IF(F9-G9<0,"W","L") -> L | U9: =IF(F9-G9>0,"W","L") -> L
H10: =IF(P10=Q10,"",Q10) | I10: =IF(R10=S10,"",S10) | J10: =IF(T10=U10,"",U10) | K10: =COUNTIF(H10:J10,"W") -> 0 | L10: =COUNTIF(H10:J10,"L") -> 0 | M10: =COUNTBLANK(H10:J10) -> 3 | N10: =B10+D10+F10 -> 0 | O10: =C10+E10+G10 -> 0 | P10: =IF(B10-C10<0,"W","L") -> L | Q10: =IF(B10-C10>0,"W","L") -> L | R10: =IF(D10-E10<0,"W","L") -> L | S10: =IF(D10-E10>0,"W","L") -> L | T10: =IF(F10-G10<0,"W","L") -> L | U10: =IF(F10-G10>0,"W","L") -> L
H11: =IF(P11=Q11,"",Q11) | I11: =IF(R11=S11,"",S11) | J11: =IF(T11=U11,"",U11) | K11: =COUNTIF(H11:J11,"W") -> 0 | L11: =COUNTIF(H11:J11,"L") -> 0 | M11: =COUNTBLANK(H11:J11) -> 3 | N11: =B11+D11+F11 -> 0 | O11: =C11+E11+G11 -> 0 | P11: =IF(B11-C11<0,"W","L") -> L | Q11: =IF(B11-C11>0,"W","L") -> L | R11: =IF(D11-E11<0,"W","L") -> L | S11: =IF(D11-E11>0,"W","L") -> L | T11: =IF(F11-G11<0,"W","L") -> L | U11: =IF(F11-G11>0,"W","L") -> L
H12: =IF(P12=Q12,"",Q12) | I12: =IF(R12=S12,"",S12) | J12: =IF(T12=U12,"",U12) | K12: =COUNTIF(H12:J12,"W") -> 0 | L12: =COUNTIF(H12:J12,"L") -> 0 | M12: =COUNTBLANK(H12:J12) -> 3 | N12: =B12+D12+F12 -> 0 | O12: =C12+E12+G12 -> 0 | P12: =IF(B12-C12<0,"W","L") -> L | Q12: =IF(B12-C12>0,"W","L") -> L | R12: =IF(D12-E12<0,"W","L") -> L | S12: =IF(D12-E12>0,"W","L") -> L | T12: =IF(F12-G12<0,"W","L") -> L | U12: =IF(F12-G12>0,"W","L") -> L
H13: =IF(P13=Q13,"",Q13) | I13: =IF(R13=S13,"",S13) | J13: =IF(T13=U13,"",U13) | K13: =COUNTIF(H13:J13,"W") -> 0 | L13: =COUNTIF(H13:J13,"L") -> 0 | M13: =COUNTBLANK(H13:J13) -> 3 | N13: =B13+D13+F13 -> 0 | O13: =C13+E13+G13 -> 0 | P13: =IF(B13-C13<0,"W","L") -> L | Q13: =IF(B13-C13>0,"W","L") -> L | R13: =IF(D13-E13<0,"W","L") -> L | S13: =IF(D13-E13>0,"W","L") -> L | T13: =IF(F13-G13<0,"W","L") -> L | U13: =IF(F13-G13>0,"W","L") -> L
... H25: =IF(P25=Q25,"",Q25) | I25: =IF(R25=S25,"",S25) | J25: =IF(T25=U25,"",U25) | K25: =COUNTIF(H25:J25,"W") -> 0 | L25: =COUNTIF(H25:J25,"L") -> 0 | M25: =COUNTBLANK(H25:J25) -> 3 | N25: =B25+D25+F25 -> 0 | O25: =C25+E25+G25 -> 0 | P25: =IF(B25-C25<0,"W","L") -> L | Q25: =IF(B25-C25>0,"W","L") -> L | R25: =IF(D25-E25<0,"W","L") -> L | S25: =IF(D25-E25>0,"W","L") -> L | T25: =IF(F25-G25<0,"W","L") -> L | U25: =IF(F25-G25>0,"W","L") -> L
B28: Instructions:
A30: 1 | B30: To ready the form for a new tournament, clear only the cells highlighted in BLUE. If you delete anything else the form will not work.
A32: 2 | B32: Enter team names in the “Team Name” column.
A34: 3 | B34: Enter the scores for each game of each team across.
A36: 4 | B36: Click on Row 1 and drag the mouse down to the final team row. This should highlight the header and all of the teams and all of the data.
A38: 5 | B38: In the menu bar, select “Data” then “Sort”.
A40: 6 | B40: Click on HEADER ROW, then sort by WINS (Descending), then by LOSSES (Ascending), then by AGAINST (Ascending).

Sheet 3FIELD
A2: TIME | B2: FIELD 1 | D2: FIELD 2
A3: 8:00AM | B3: STEALERS | D3: REGULATORS | F3: 14U
B4: WARRIORS | D4: DIAMOND GIRLZ
F5: HS
A6: 9:30AM | B6: STEALERS | D6: DAWGS
B7: REGULATORS | D7: DIAMOND GIRLZ
A9: 11:00AM | B9: WARRIORS | D9: REGULATORS
B10: HEATWAVE | D10: OUTLAWS
A12: 12:30PM | B12: STEALERS | D12: DAWGS
B13: HEATWAVE | D13: REGULATORS
A15: 2:00PM | B15: WARRIORS | D15: DIAMOND GIRLZ | H15: …
B16: REGULATORS | D16: OUTLAWS
A18: 3:30PM | B18: REGULATORS | D18: OUTLAWS
B19: HEATWAVE | D19: DAWGS
D21: ALL TEAMS WILL PLAY
D22: AT WOGC ON SUNDAY

Sheet 4 FIELD
A2: TIME | B2: FIELD 1 | D2: FIELD 3 | F2: FIELD 4 | H2: FIELD 5
A3: 0.35416667 | B3: BOOM | D3: LADYHAWKS | F3: ELITE | H3: WILDFIRE | J3: 12U
B4: SWAT | D4: MAKOS | F4: STEALERS WEST | H4: GOLD | J4: GAMES
A6: 0.41666667 | B6: BOOM | D6: LADYHAWKS | F6: MUSTANGS | H6: WILDFIRE | J6: 14U GAMES
B7: STORM | D7: STEALERS WEST | F7: MAKOS | H7: SWAT
A9: 11:30 AM | B9: AMBUSH | D9: ELITE | F9: TOP GUN | H9: SHARKS | J9: HS GAMES
B10: SWAT | D10: TWISTERS | F10: LIGHTNING | H10: GOLD
A12: 0.54166667 | B12: STORM | D12: LADYHAWKS | F12: STEALERS WEST | H12: GOLD
B13: SWAT | D13: ELITE | F13: MAKOS | H13: SWAT
A15: 0.60416667 | B15: BOOM | D15: LIGHTNING | F15: TOP GUN | H15: WILDFIRE
B16: AMBUSH | D16: TWISTERS | F16: MUSTANGS | H16: SHARKS
A18: 0.66666667 | B18: STORM | D18: MUSTANGS | F18: TOP GUN | H18: SHARKS
B19: AMBUSH | D19: LIGHTNING | F19: TWISTERS | H19: SWAT

Sheet 5 FIELD
A2: TIME | B2: FIELD 1 | D2: FIELD 2 | F2: FIELD 3 | H2: FIELD 4 | J2: FIELD 5
A3: 8:00AM | B3: HEATWAVE | D3: SHOCK | F3: PFX | H3: G FORCE
B4: REBELS | D4: REBELS | F4: WARRIORS | H4: HURRICANES
A6: 9:30AM | B6: HEATWAVE | D6: SHOCK | F6: PFX | H6: G FORCE | J6: MUSTANGS
B7: SWAT | D7: GAMECHANGERS | F7: HEAT | H7: RAZORBACKS | J7: REBELS
A9: 11:00AM | B9: REBELS | D9: CRUSH | F9: RIPPERS | H9: DAWGS | J9: RIPTIDE | L9: 10U
B10: OUTLAWS | D10: GAMECHANGERS | F10: HEAT | H10: HURRICANES | J10: WARRIORS
A12: 12:30PM | B12: REBELS | D12: REBELS | F12: RAZORBACKS | H12: DAWGS | J12: SHOCK | L12: 12U
B13: SWAT | D13: GAMECHANGERS | F13: HURRICANES | H13: G FORCE | J13: MUSTANGS
A15: 2:00PM | B15: HEATWAVE | D15: CRUSH | F15: RAZORBACKS | H15: WARRIORS | J15: RIPTIDE | L15: HS
B16: OUTLAWS | D16: SHOCK | F16: HEAT | H16: RIPPERS | J16: PFX
A18: 3:30PM | B18: SWAT | D18: CRUSH | F18: RIPTIDE | H18: DAWGS
B19: OUTLAWS | D19: MUSTANGS | F19: HEAT | H19: RIPPERS
B22: REPORT ALL | D22: SCORES TO | F22: SITE DIRECTOR | H22: AS SOON AS | J22: EACH GAME ENDS, | L22: THANKS !
A30: TIME | B30: FIELD 1 | D30: FIELD 2 | F30: FIELD 3
A31: 8:00AM
A33: MVP ->
A34: 9:30AM
A36: MVP ->
A37: 11:00AM
A39: MVP ->
A40: 12:30PM
A42: MVP ->
A43: 2:00PM
A45: MVP ->
A46: 3:30PM
A48: MVP ->
... A55: 8:00PM

Sheet 6 FIELD
A2: TIME | B2: BLUE | D2: GREEN | F2: YELLOW | H2: ORANGE | J2: RED | L2: PURPLE
A3: 8:00AM | B3: DOLPHINS | D3: ALLSTARS | F3: ELITE | H3: REBELS SEAN | J3: WILDCATS ECK | L3: GFORCE
B4: THUNDER | D4: HATTERS | F4: WILDFIRE | H4: VIPERS | J4: D GIRLZ | L4: REBELS JUAN
A6: 9:30AM | B6: FURY | D6: LADYHAWKS | F6: ELITE | H6: REBELS SEAN | J6: WILDCATS ECK | L6: REBELS JUAN
B7: DOLPHINS | D7: HATTERS | F7: CRUISERS | H7: G FORCE | J7: LADYHAWKS | L7: VIPERS
A9: 11:00AM | B9: THUNDER | D9: SHOCKERS | F9: CRUISERS | H9: REBELS JUAN | J9: LADYHAWKS | L9: BLAST | N9: 10U
B10: FURY | D10: ALLSTARS | F10: WILDFIRE | H10: WILDCATS | J10: DGIRLZ | L10: VIPERS
A12: 12:30PM | B12: THUNDER | D12: LADYHAWKS | F12: DOLPHINS | H12: REBELS SEAN | J12: BLAST | L12: RED RAGE | N12: 12U
B13: FREEDOM | D13: ALLSTARS | F13: LADYHAWKS | H13: BOLTS | J13: DGIRLZ | L13: WILDCATS
A15: 2:00PM | B15: HATTERS | D15: FREEDOM | F15: LADYHAWKS | H15: WILD | J15: FIRECRACKER | L15: BLAST | N15: 14U
B16: FREEDOM | D16: HATTERS | F16: ELITE | H16: WILDFIRE | J16: WILDCATS ECK | L16: GFORCE
A18: 3:30PM | B18: FURY | D18: LADYHAWKS | F18: CRUISERS | H18: SHOCKERS | J18: BLAST | L18: RED RAGE | N18: HS
B19: STORM | D19: FREEDOM | F19: WILD | H19: PANTHERS | J19: LADYHAWKS | L19: BOLTS
A21: 5:00PM | B21: FREEDOM | D21: SHOCKERS | F21: LADYHAWKS | H21: WILDCATS | J21: LADYHAWKS | L21: BLAST
B22: STORM | D22: PANTHERS | F22: HATTERS | H22: BOLTS | J22: FIRECRACKER | L22: RED RAGE
A24: 6:30PM | B24: FREEDOM | D24: PANTHERS | F24: STORM | J24: BLAST
B25: WILD | D25: FREEDOM | F25: HATTERS | J25: FIRECRACKER

Sheet Sunday
A2: TIMES | C2: 1 | D2: 2 | E2: 3 | F2: 4 | G2: 5 | H2: 6
A3: 0.33333333
A5: MVP
A6: 0.39583333
A8: MVP
A9: 0.45833333
A11: MVP
A12: 0.52083333
A14: MVP
A15: 0.58333333
A17: MVP
A18: 0.64583333
A20: MVP
A21: 0.70833333
A23: MVP
A24: 0.77083333
A26: MVP
A27: 0.83333333

Sheet 3 Team Single
H1: FASTPITCH FRENZY
H2: NTC
B3: 1st Seed | D3: =IF(B27="","",B27) -> 0 | H3: HIGH SCHOOL
D6: Game 2
D8: (Enter Game Time Here)
F9: =IF(OR(E3="",E14=""),"Champion",IF(E3-E14>0,D3,D14)) -> Champion
A10: 2nd Seed | B10: =IF(B28="","",B28) -> 0
B12: Game 1
B14: (Enter Game Time Here)
A18: 3rd Seed | B18: =IF(B29="","",B29) -> 0
B26: Team Names
B27: ='Seed Games'!A2 -> 0
B28: ='Seed Games'!A3 -> 0
B29: ='Seed Games'!A4 -> 0

Sheet 4 Team Single
F1: MARCH MADNESS
F2: EAST LAKE PARK
A3: 1st Seed | F3: 14/15U GOLD
B5: Game 2
B7: 2:15 PM FLD S1
D9: Game 3
A11: 4th Seed | D11: 3:45 PM FLD S1 | F11: =IF(OR(E6="",E17=""),"Champion",IF(E6-E17>0,D6,D17)) -> Champion
A13: 3rd Seed
B15: Game 1
B17: 12:45 PM FLD S1
A21: 2nd Seed
B29: Team Names
B30: ='Seed Games'!A2 -> 0
B31: ='Seed Games'!A3 -> 0
B32: ='Seed Games'!A4 -> 0
B33: ='Seed Games'!A5 -> 0

Sheet 5 Team Single
H1: LOUISVILLE SLUGGER
H2: 10U
B3: 1st Seed | H3: WOGC
D6: Game 3
A8: 4th Seed | D8: 2 PM FLD GREEN
B10: Game 1
F11: Game 4
B12: 11 AM FLD GREEN | H12: =IF(OR(G7="",G22=""),"Champion",IF(G7-G22>0,F7,D21)) -> Champion
F14: 3:30 PM FLD GREEN
A16: 5th Seed
A18: 2nd Seed
B20: Game 2
B22: 12:30 PM FLD GREEN
B25: =IF(B331="","",B38)
A26: 3rd Seed
B35: Team Names
B36: ='Seed Games'!A2 -> 0
B37: ='Seed Games'!A3 -> 0
B38: ='Seed Games'!A4 -> 0
B39: ='Seed Games'!A5 -> 0
B40: ='Seed Games'!A6 -> 0

Sheet 6 Team Single
H1: BEAT CANCER W / A BAT
H2: HIGH SCHOOL
B3: 1st Seed | H3: HANCOCK PARK
D6: Game 4
A8: 4th Seed | D8: 10:30 AM FLD 1
B10: Game 1
F11: Game 5
B12: 9 AM FLD 1
F14: 12 PM FLD 1 | H14: =IF(OR(G7="",G22=""),"Champion",IF(G7-G22>0,F7,F22)) -> Champion
A16: 5th Seed
B18: 2nd Seed
D21: Game 3
D23: 10:30 AM FLD 2
A24: 3rd Seed
B26: Game 2
B28: 9 AM FLD 2
A31: 6th Seed
B41: Team Names
B42: ='Seed Games'!A2 -> 0
B43: ='Seed Games'!A3 -> 0
B44: ='Seed Games'!A4 -> 0
B45: ='Seed Games'!A5 -> 0
B46: ='Seed Games'!A6 -> 0
B47: ='Seed Games'!A7 -> 0

Sheet 7 Team Single
H1: SWEETHEART BALL
H2: 14/16U SILVER
B3: 1st Seed | H3: HANCOCK PARK
D6: Game 4
D8: 11:30 AM FLD 2
A10: 4th Seed
B12: Game 1
F13: Game 6
B14: 8:30 AM FLD 2
A18: 5th Seed | F18: 1 PM FLD 1 | H18: =IF(OR(G9="",G30=""),"Champion",IF(G9-G30>0,F9,F30)) -> Champion
A20: 2nd Seed
B22: Game 3
B24: 10:00 AM FLD 1
D26: Game 5
A28: 7th Seed
D29: 11:30 AM FLD 1
A30: 3rd Seed
B32: Game 2
B34: 8:30 AM FLD 1
A38: 6th Seed
B47: Team Names
B48: ='Seed Games'!A2 -> 0
B49: ='Seed Games'!A3 -> 0
B50: ='Seed Games'!A4 -> 0
B51: ='Seed Games'!A5 -> 0
B52: ='Seed Games'!A6 -> 0
B53: ='Seed Games'!A7 -> 0
B54: ='Seed Games'!A8 -> 0

Sheet 8 Team Single
H1: NSA TOYS FOR TOTS
H2: 10U
A3: 1st Seed | H3: NTC COMPLEX
B5: Game 4
B7: 2 PM FLD 3
D9: Game 6
A11: 8th Seed
D12: 3:30 PM FLD 4
A13: 4th Seed
B15: Game 1
F16: Game 7
B17: 11 AM FLD 4
A21: 5th Seed | F21: 5 PM FLD 4 | H21: =IF(OR(G12="",G33=""),"Champion",IF(G12-G33>0,F12,F33)) -> Champion
A23: 2nd Seed
B25: Game 3
B27: 12:30 PM FLD 4
D29: Game 5
A31: 7th Seed
D32: 2 PM FLD 4
A33: 3rd Seed
B35: Game 2
B37: 12:30 PM FLD 3
A41: 6th Seed
B50: Team Names
B51: ='Seed Games'!A2 -> 0
B52: ='Seed Games'!A3 -> 0
B53: ='Seed Games'!A4 -> 0
B54: ='Seed Games'!A5 -> 0
B55: ='Seed Games'!A6 -> 0
B56: ='Seed Games'!A7 -> 0
B57: ='Seed Games'!A8 -> 0
B58: ='Seed Games'!A9 -> 0

Sheet 9 Team Single
B3: 1st Seed | D3: =IF(B55="","",B55) -> 0
D6: Game 5
F7: =IF(OR(E3="",E12=""),"Winner Game 5",IF(E3-E12>0,D3,D12)) -> Winner Game 5
A8: 8th Seed | B8: =IF(B62="","",B62) -> 0 | D8: 12:30 PURPLE
B10: Game 1
F11: Game 7
B12: 8:00 PURPLE | D12: =IF(OR(C8="",C16=""),"Winner Game 1",IF(C8-C16>0,B8,B16)) -> Winner Game 1 | H12: =IF(OR(G7="",G22=""),"Winner Game 7",IF(G7-G22>0,F7,D21)) -> Winner Game 7
F13: 3:30 PURPLE
A16: 9th Seed | B16: =IF(B63="","",B63) -> 0
A18: 4th Seed | B18: =IF(B58="","",B58) -> 0
B20: Game 2 | H20: Game 8
D21: =IF(OR(C18="",C26=""),"Winner Game 2",IF(C18-C26>0,B18,B26)) -> Winner Game 2
B22: 9:30 YELLOW
H24: 5:00 PURPLE | J24: =IF(OR(I12="",I37=""),"Champion",IF(I12-I37>0,H12,F36)) -> Champion
B25: =IF(B323="","",B57)
A26: 5th Seed | B26: =IF(B59="","",B59) -> 0
A28: 2nd Seed | B28: =IF(B56="","",B56) -> 0
B30: Game 4
D31: =IF(OR(C28="",C36=""),"Winner Game 4",IF(C28-C36>0,B28,B36)) -> Winner Game 4
B32: 11:00 PURPLE
D34: Game 6
A36: 7th Seed | B36: =IF(B61="","",B61) -> 0 | D36: 2:00 PURPLE | F36: =IF(OR(E31="",E42=""),"Winner Game 6",IF(E31-E42>0,D31,D42)) -> Winner Game 6
A38: 3rd Seed | B38: =IF(B57="","",B57) -> 0
B40: Game 3
B42: 9:30 PURPLE | D42: =IF(OR(C38="",C46=""),"Winner Game 3",IF(C38-C46>0,B38,B46)) -> Winner Game 3
A46: 6th Seed | B46: =IF(B60="","",B60) -> 0
B54: Team Names
B55: ='Seed Games'!A2 -> 0
B56: ='Seed Games'!A3 -> 0
B57: ='Seed Games'!A4 -> 0
B58: ='Seed Games'!A5 -> 0
B59: ='Seed Games'!A6 -> 0
B60: ='Seed Games'!A7 -> 0
B61: ='Seed Games'!A8 -> 0
B62: ='Seed Games'!A9 -> 0
B63: ='Seed Games'!A10 -> 0

Sheet 10 Team Single
B3: 1st Seed | D3: =IF(B62="","",B62) -> 0
D6: Game 6
F7: =IF(OR(E3="",E12=""),"Winner Game 6",IF(E3-E12>0,D3,D12)) -> Winner Game 6
A8: 8th Seed | B8: =IF(B69="","",B69) -> 0 | D8: (Enter Game Time Here)
B10: Game 1
F11: Game 7
B12: (Enter Game Time Here) | D12: =IF(OR(C8="",C16=""),"Winner Game 1",IF(C8-C16>0,B8,B16)) -> Winner Game 1 | H12: =IF(OR(G7="",G22=""),"Winner Game 7",IF(G7-G22>0,F7,D21)) -> Winner Game 7
F14: (Enter Game Time Here)
A16: 9th Seed | B16: =IF(B70="","",B70) -> 0
H17: Game 9
A18: 4th Seed | B18: =IF(B65="","",B65) -> 0
B20: Game 3
D21: =IF(OR(C18="",C26=""),"Winner Game 3",IF(C18-C26>0,B18,B26)) -> Winner Game 3
B22: (Enter Game Time Here)
H24: (Enter Game Time Here) | J24: =IF(OR(I12="",I38=""),"Champion",IF(I12-I38>0,H12,H38)) -> Champion
B25: =IF(B330="","",B64)
A26: 5th Seed | B26: =IF(B66="","",B66) -> 0
B28: 2nd Seed | D28: =IF(B63="","",B63) -> 0
D31: Game 5
F32: =IF(OR(E28="",E37=""),"Winner Game 5",IF(E28-E37>0,D28,D37)) -> Winner Game 5
A33: 7th Seed | B33: =IF(B68="","",B68) -> 0 | D33: (Enter Game Time Here)
B35: Game 2
F36: Game 8
B37: (Enter Game Time Here) | D37: =IF(OR(C33="",C41=""),"Winner Game 2",IF(C33-C41>0,B33,B41)) -> Winner Game 2
H38: =IF(OR(G32="",G47=""),"Winner Game 8",IF(G32-G47>0,F32,D46)) -> Winner Game 8
F39: (Enter Game Time Here)
A41: 10th Seed | B41: =IF(B71="","",B71) -> 0
A43: 3rd Seed | B43: =IF(B64="","",B64) -> 0
B45: Game 4
D46: =IF(OR(C43="",C51=""),"Winner Game 4",IF(C43-C51>0,B43,B51)) -> Winner Game 4
B47: (Enter Game Time Here)
B50: =IF(B355="","",B81)
A51: 6th Seed | B51: =IF(B67="","",B67) -> 0
B61: Team Names
B62: ='Seed Games'!A2 -> 0
B63: ='Seed Games'!A3 -> 0
B64: ='Seed Games'!A4 -> 0
B65: ='Seed Games'!A5 -> 0
B66: ='Seed Games'!A6 -> 0
B67: ='Seed Games'!A7 -> 0
...

Sheet 11 Team Single
B3: 1st Seed | D3: =IF(B66="","",B66) -> 0
D6: Game 7
F7: =IF(OR(E3="",E12=""),"Winner Game 6",IF(E3-E12>0,D3,D12)) -> Winner Game 6
A8: 8th Seed | B8: =IF(B73="","",B73) -> 0 | D8: (Enter Game Time Here)
B10: Game 1
F11: Game 8
B12: (Enter Game Time Here) | D12: =IF(OR(C8="",C16=""),"Winner Game 3",IF(C8-C16>0,B8,B16)) -> Winner Game 3 | H12: =IF(OR(G7="",G22=""),"Winner Game 8",IF(G7-G22>0,F7,D21)) -> Winner Game 8
F13: (Enter Game Time Here)
A16: 9th Seed | B16: =IF(B74="","",B74) -> 0 | H16: Game 10
A18: 4th Seed | B18: =IF(B69="","",B69) -> 0
B20: Game 4
D21: =IF(OR(C18="",C26=""),"Winner Game 4",IF(C18-C26>0,B18,B26)) -> Winner Game 4
B22: (Enter Game Time Here)
H24: (Enter Game Time Here) | J24: =IF(OR(I12="",I40=""),"Champion",IF(I12-I40>0,H12,H40)) -> Champion
B25: =IF(B323="","",B68)
A26: 5th Seed | B26: =IF(B70="","",B70) -> 0
B28: 2nd Seed | D28: =IF(B67="","",B67) -> 0
D31: Game 6
F32: =IF(OR(E28="",E37=""),"Winner Game 7",IF(E28-E37>0,D28,D37)) -> Winner Game 7
A33: 7th Seed | B33: =IF(B72="","",B72) -> 0 | D33: (Enter Game Time Here)
B35: Game 2
F36: Game 9
B37: (Enter Game Time Here) | D37: =IF(OR(C33="",C41=""),"Winner Game 2",IF(C33-C41>0,B33,B41)) -> Winner Game 2
F39: (Enter Game Time Here)
H40: =IF(OR(G32="",G47=""),"Winner Game 9",IF(G32-G47>0,F32,F47)) -> Winner Game 9
A41: 10th Seed | B41: =IF(B75="","",B75) -> 0
B43: 3rd Seed | D43: =IF(B68="","",B68) -> 0
D46: Game 5
F47: =IF(OR(E43="",E52=""),"Winner Game 5",IF(E43-E52>0,D43,D52)) -> Winner Game 5
D48: (Enter Game Time Here)
A49: 6th Seed | B49: =IF(B71="","",B71) -> 0
B51: Game 3
D52: =IF(OR(C49="",C56=""),"Winner Game 1",IF(C49-C56>0,B49,B56)) -> Winner Game 1
B53: (Enter Game Time Here)
A56: 11th Seed | B56: =IF(B76="","",B76) -> 0
B65: Team Names
B66: ='Seed Games'!A2 -> 0
B67: ='Seed Games'!A3 -> 0
B68: ='Seed Games'!A4 -> 0
B69: ='Seed Games'!A5 -> 0
...

Sheet 12 Team Single
J1: LOUISVILLE SLUGGER
J2: HIGH SCHOOL
B3: 1st Seed | J3: WOGC / OCOEE
D6: Game 8
A8: 8th Seed | D8: 12:30 PM FLD RED
B10: Game 1
F11: Game 10
B12: 8 AM FLD RED
F14: 2 PM FLD RED
A16: 9th Seed
B18: 4th Seed | H18: Game 11
D21: Game 5
D23: 11 AM FLD RED
A24: 5th Seed
B26: Game 4
B28: 9:30 AM FLD RED | H28: 3:30 PM FLD RED | J28: =IF(OR(I14="",I46=""),"Champion",IF(I14-I46>0,H14,H46)) -> Champion
A31: 12th Seed
B34: 2nd Seed
D37: Game 7
A39: 7th Seed | D39: 9:30 AM FLD PURPLE
B41: Game 2
F42: Game 9
B43: 8 AM FLD PURPLE
F45: 12:30 PM FLD PURPLE
A47: 10th Seed
B49: 3rd Seed
D52: Game 6
D54: 11 AM FLD PURPLE
A55: 6th Seed
B57: Game 3
B59: 8 AM FLD ORANGE
A62: 11th Seed
B71: Team Names
B72: ='Seed Games'!A2 -> 0
B73: ='Seed Games'!A3 -> 0
B74: ='Seed Games'!A4 -> 0
B75: ='Seed Games'!A5 -> 0
B76: ='Seed Games'!A6 -> 0
B77: ='Seed Games'!A7 -> 0
B78: ='Seed Games'!A8 -> 0
...

Sheet 13 Team Single
B3: 1st Seed | D3: =IF(B78="","",B78) -> 0
D6: Game 8
D8: (Enter Game Time Here)
F9: =IF(OR(E3="",E14=""),"Winner Game 8",IF(E3-E14>0,D3,D14)) -> Winner Game 8
A10: 8th Seed | B10: =IF(B85="","",B85) -> 0
B12: Game 1
F13: Game 11
B14: 8am Fd 4 | D14: =IF(OR(C10="",C18=""),"Winner Game 1",IF(C10-C18>0,B10,B18)) -> Winner Game 1
A18: 9th Seed | B18: =IF(B86="","",B86) -> 0 | F18: (Enter Game Time Here) | H18: =IF(OR(G9="",G30=""),"Winner Game 11",IF(G9-G30>0,F9,F30)) -> Winner Game 11
A20: 4th Seed | B20: =IF(B81="","",B81) -> 0
B22: Game 5
D23: =IF(OR(C20="",C28=""),"Winner Game 5",IF(C20-C28>0,B20,B28)) -> Winner Game 5 | H23: Game 12
B24: 11am Fd 5
D26: Game 9
A28: 13th Seed | B28: =IF(B90="","",B90) -> 0 | D28: (Enter Game Time Here)
A30: 5th Seed | B30: =IF(B82="","",B82) -> 0 | F30: =IF(OR(E23="",E34=""),"Winner Game 9",IF(E23-E34>0,D23,D34)) -> Winner Game 9
B32: Game 4
H33: (Enter Game Time Here) | J33: =IF(OR(I18="",I52=""),"Champion",IF(I18-I52>0,H18,H52)) -> Champion
B34: 930am Fd 4 | D34: =IF(OR(C30="",C38=""),"Winner Game 4",IF(C30-C38>0,B30,B38)) -> Winner Game 4
A38: 12th Seed | B38: =IF(B89="","",B89) -> 0
B40: 2nd Seed | D40: =IF(B79="","",B79) -> 0
D43: Game 7
F44: =IF(OR(E40="",E49=""),"Winner Game 7",IF(E40-E49>0,D40,D49)) -> Winner Game 7
A45: 7th Seed | B45: =IF(B84="","",B84) -> 0 | D45: (Enter Game Time Here)
B47: Game 2
F48: Game 10
B49: 8am Fd 5 | D49: =IF(OR(C45="",C53=""),"Winner Game 2",IF(C45-C53>0,B45,B53)) -> Winner Game 2
F51: (Enter Game Time Here)
H52: =IF(OR(G44="",G59=""),"Winner Game 10",IF(G44-G59>0,F44,F59)) -> Winner Game 10
A53: 10th Seed | B53: =IF(B87="","",B87) -> 0
B55: 3rd Seed | D55: =IF(B80="","",B80) -> 0
D58: Game 6
F59: =IF(OR(E55="",E64=""),"Winner Game 6",IF(E55-E64>0,D55,D64)) -> Winner Game 6
D60: (Enter Game Time Here)
A61: 6th Seed | B61: =IF(B83="","",B83) -> 0
B63: Game 3
D64: =IF(OR(C61="",C68=""),"Winner Game 3",IF(C61-C68>0,B61,B68)) -> Winner Game 3
B65: 930am Fd 5
A68: 11th Seed | B68: =IF(B88="","",B88) -> 0
B77: Team Names
...

Sheet 14 Team Single
B3: 1st Seed | D3: =IF(B84="","",B84) -> 0
D6: Game 8
D8: (Enter Game Time Here)
F9: =IF(OR(E3="",E14=""),"Winner Game 8",IF(E3-E14>0,D3,D14)) -> Winner Game 8
A10: 8th Seed | B10: =IF(B91="","",B91) -> 0
B12: Game 1
F13: Game 11
B14: (Enter Game Time Here) | D14: =IF(OR(C10="",C18=""),"Winner Game 1",IF(C10-C18>0,B10,B18)) -> Winner Game 1
A18: 9th Seed | B18: =IF(B92="","",B92) -> 0 | F18: (Enter Game Time Here) | H18: =IF(OR(G9="",G30=""),"Winner Game 11",IF(G9-G30>0,F9,F30)) -> Winner Game 11
A20: 4th Seed | B20: =IF(B87="","",B87) -> 0
B22: Game 5
D23: =IF(OR(C20="",C28=""),"Winner Game 5",IF(C20-C28>0,B20,B28)) -> Winner Game 5 | H23: Game 13
B24: (Enter Game Time Here)
D26: Game 9
A28: 13th Seed | B28: =IF(B96="","",B96) -> 0 | D28: (Enter Game Time Here)
A30: 5th Seed | B30: =IF(B88="","",B88) -> 0 | F30: =IF(OR(E23="",E34=""),"Winner Game 9",IF(E23-E34>0,D23,D34)) -> Winner Game 9
B32: Game 4
B34: (Enter Game Time Here) | D34: =IF(OR(C30="",C38=""),"Winner Game 4",IF(C30-C38>0,B30,B38)) -> Winner Game 4
J35: =IF(OR(I18="",I56=""),"Champion",IF(I18-I56>0,H18,H56)) -> Champion
H36: (Enter Game Time Here)
A38: 12th Seed | B38: =IF(B95="","",B95) -> 0
B40: 2nd Seed | D40: =IF(B85="","",B85) -> 0
D43: Game 7
D45: (Enter Game Time Here)
F46: =IF(OR(E40="",E51=""),"Winner Game 7",IF(E40-E51>0,D40,D51)) -> Winner Game 7
A47: 7th Seed | B47: =IF(B90="","",B90) -> 0
B49: Game 2
F50: Game 12
B51: (Enter Game Time Here) | D51: =IF(OR(C47="",C55=""),"Winner Game 2",IF(C47-C55>0,B47,B55)) -> Winner Game 2
A55: 10th Seed | B55: =IF(B93="","",B93) -> 0 | F55: (Enter Game Time Here)
H56: =IF(OR(G46="",G67=""),"Winner Game 12",IF(G46-G67>0,F46,F67)) -> Winner Game 12
A57: 3rd Seed | B57: =IF(B86="","",B86) -> 0
B59: Game 6
D60: =IF(OR(C57="",C65=""),"Winner Game 6",IF(C57-C65>0,B57,B65)) -> Winner Game 6
B61: (Enter Game Time Here)
D63: Game 10
A65: 14th Seed | B65: =IF(B97="","",B97) -> 0 | D65: (Enter Game Time Here)
A67: 6th Seed | B67: =IF(B89="","",B89) -> 0 | F67: =IF(OR(E60="",E71=""),"Winner Game 10",IF(E60-E71>0,D60,D71)) -> Winner Game 10
B69: Game 3
B71: (Enter Game Time Here) | D71: =IF(OR(C67="",C75=""),"Winner Game 3",IF(C67-C75>0,B67,B75)) -> Winner Game 3
...

Sheet 15 Team Single
H1: NSA TOYS FOR TOTS
H2: 12U *
B3: 1st Seed | H3: NTC COMPLEX
D6: Game 8
D8: 11 AM FLD 3
A10: 8th Seed
B12: Game 1
F13: Game 12
B14: 8 AM FLD 1
A18: 9th Seed | F18: 3:30 PM FLD 3
A20: 4th Seed
B22: Game 5
H23: Game 14
B24: 9:30 AM FLD 2
D26: Game 9
A28: 13th Seed | D28: 11 AM FLD 2
A30: 5th Seed
B32: Game 4
B34: 9:30 AM FLD 1
A38: 12th Seed | H38: 5 PM FLD 1 | J38: =IF(OR(I18="",I59=""),"Champion",IF(I18-I59>0,H18,H59)) -> Champion
A40: 2nd Seed
B42: Game 7
B44: 11 AM FLD 1
D46: Game 10
A48: 15th Seed | D48: 12:30 PM FLD 1
A50: 7th Seed
B52: Game 2
F53: Game 13
B54: 8 AM FLD 2
F56: 3:30 PM FLD 1
A58: 10th Seed
A60: 3th Seed
B62: Game 6
J63: * 3RD & 4TH PLACE AWARDS
B64: 9:30 AM FLD 3 | J64: WILL BE GIVEN IN THIS AGE
J65: GROUP. THEY WILL BE
D66: Game 11 | J66: DESIGNATED AS 12U B
J67: CHAMPION & RUNNER-UP
A68: 14th Seed | D68: 2 PM FLD 1 | J68: TEAMS NOT ADVANCING IN
J69: SEMIFINALS WILL BE RECIPIENTS
...

Sheet 16 Team Single
A3: 1st Seed | B3: =IF(B90="","",B90) -> 0
B5: Game 8
D6: =IF(OR(C3="",C11=""),"Winner Game 8",IF(C3-C11>0,B3,B11)) -> Winner Game 8
B7: (Enter Game Time Here)
D9: Game 11
A11: 16th Seed | B11: =IF(B105="","",B105) -> 0 | D11: (Enter Game Time Here)
F12: =IF(OR(E6="",E17=""),"Winner Game 11",IF(E6-E17>0,D6,D17)) -> Winner Game 11
A13: 8th Seed | B13: =IF(B97="","",B97) -> 0
B15: Game 1
F16: Game 13
B17: (Enter Game Time Here) | D17: =IF(OR(C13="",C21=""),"Winner Game 1",IF(C13-C21>0,B13,B21)) -> Winner Game 1
A21: 9th Seed | B21: =IF(B98="","",B98) -> 0 | F21: (Enter Game Time Here) | H21: =IF(OR(G12="",G33=""),"Winner Game 13",IF(G12-G33>0,F12,F33)) -> Winner Game 13
A23: 4th Seed | B23: =IF(B93="","",B93) -> 0
B25: Game 5
D26: =IF(OR(C23="",C31=""),"Winner Game 5",IF(C23-C31>0,B23,B31)) -> Winner Game 5 | H26: Game 15
B27: (Enter Game Time Here)
D29: Game 9
A31: 13th Seed | B31: =IF(B102="","",B102) -> 0 | D31: (Enter Game Time Here)
A33: 5th Seed | B33: =IF(B94="","",B94) -> 0 | F33: =IF(OR(E26="",E37=""),"Winner Game 9",IF(E26-E37>0,D26,D37)) -> Winner Game 9
B35: Game 4
B37: (Enter Game Time Here) | D37: =IF(OR(C33="",C41=""),"Winner Game 4",IF(C33-C41>0,B33,B41)) -> Winner Game 4
H40: (Enter Game Time Here) | J40: =IF(OR(I21="",I62=""),"Champion",IF(I21-I62>0,H21,H62)) -> Champion
A41: 12th Seed | B41: =IF(B101="","",B101) -> 0
A43: 2nd Seed | B43: =IF(B91="","",B91) -> 0
B45: Game 7
D46: =IF(OR(C43="",C51=""),"Winner Game 7",IF(C43-C51>0,B43,B51)) -> Winner Game 7
B47: (Enter Game Time Here)
D49: Game 12
A51: 15th Seed | B51: =IF(B104="","",B104) -> 0 | D51: (Enter Game Time Here)
F52: =IF(OR(E46="",E57=""),"Winner Game 12",IF(E46-E57>0,D46,D57)) -> Winner Game 12
A53: 7th Seed | B53: =IF(B96="","",B96) -> 0
B55: Game 2
F56: Game 14
B57: (Enter Game Time Here) | D57: =IF(OR(C53="",C61=""),"Winner Game 2",IF(C53-C61>0,B53,B61)) -> Winner Game 2
A61: 10th Seed | B61: =IF(B99="","",B99) -> 0 | F61: (Enter Game Time Here)
H62: =IF(OR(G52="",G73=""),"Winner Game 14",IF(G52-G73>0,F52,F73)) -> Winner Game 14
A63: 3rd Seed | B63: =IF(B92="","",B92) -> 0
B65: Game 6
D66: =IF(OR(C63="",C71=""),"Winner Game 6",IF(C63-C71>0,B63,B71)) -> Winner Game 6
B67: (Enter Game Time Here)
...

Sheet 17 Team Single
D3: 1st Seed | E3: =IF(E91="","",E91) -> 0
E5: Game 9
A6: 16th Seed | B6: =IF(E106="","",E106) -> 0 | G6: =IF(OR(F3="",F11=""),"Winner Game 9",IF(F3-F11>0,E3,E11)) -> Winner Game 9
E7: (Enter Game Time Here)
B8: Game 1
G9: Game 13
B10: (Enter Game Time Here)
E11: =IF(OR(C6="",C14=""),"Winner Game 1",IF(C6-C14>0,B6,B14)) -> Winner Game 1
G12: (Enter Game Time Here) | I12: =IF(OR(H6="",H17=""),"Winner Game 13",IF(H6-H17>0,G6,G17)) -> Winner Game 13
D13: 9th Seed | E13: =IF(E99="","",E99) -> 0
A14: 17th Seed | B14: =IF(E107="","",E107) -> 0
E15: Game 2
I16: Game 14
E17: (Enter Game Time Here) | G17: =IF(OR(F13="",F21=""),"Winner Game 2",IF(F13-F21>0,E13,E21)) -> Winner Game 2
D21: 8th Seed | E21: =IF(E98="","",E98) -> 0 | I21: (Enter Game Time Here) | K21: =IF(OR(J12="",J33=""),"Winner Game 14",IF(J12-J33>0,I12,I33)) -> Winner Game 14
D23: 4thSeed | E23: =IF(E94="","",E94) -> 0
E25: Game 3
G26: =IF(OR(F23="",F31=""),"Winner Game 3",IF(F23-F31>0,E23,E31)) -> Winner Game 3
E27: (Enter Game Time Here)
G29: Game 10
D31: 13th Seed | E31: =IF(E103="","",E103) -> 0
G32: (Enter Game Time Here)
D33: 12th Seed | E33: =IF(E102="","",E102) -> 0 | I33: =IF(OR(H26="",H37=""),"Winner Game 10",IF(H26-H37>0,G26,G37)) -> Winner Game 10
E35: Game 4
E37: (Enter Game Time Here) | G37: =IF(OR(F33="",F41=""),"Winner Game 4",IF(F33-F41>0,E33,E41)) -> Winner Game 4
K39: (Enter Game Time Here)
D41: 5th Seed | E41: =IF(E95="","",E95) -> 0 | K41: Game 16 | M41: =IF(OR(L21="",L63=""),"Champion",IF(L21-L63>0,K21,K63)) -> Champion
D44: 2nd Seed | E44: =IF(E92="","",E92) -> 0
E46: Game 5
G47: =IF(OR(F44="",F52=""),"Winner Game 5",IF(F44-F52>0,E44,E52)) -> Winner Game 5
E48: (Enter Game Time Here)
G50: Game 12
D52: 15th Seed | E52: =IF(E105="","",E105) -> 0
G53: (Enter Game Time Here) | I53: =IF(OR(H47="",H58=""),"Winner Game 12",IF(H47-H58>0,G47,G58)) -> Winner Game 12
D54: 10th Seed | E54: =IF(E100="","",E100) -> 0
E56: Game 6
I57: Game 15
E58: (Enter Game Time Here) | G58: =IF(OR(F54="",F62=""),"Winner Game 6",IF(F54-F62>0,E54,E62)) -> Winner Game 6
D62: 7th Seed | E62: =IF(E97="","",E97) -> 0 | I62: (Enter Game Time Here)
K63: =IF(OR(J53="",J74=""),"Winner Game 15",IF(J53-J74>0,I53,I74)) -> Winner Game 15
...

Sheet 18 Team Single
D3: 1st Seed | E3: =IF(E91="","",E91) -> 0
E5: Game 10
A6: 16th Seed | B6: =IF(E106="","",E106) -> 0 | G6: =IF(OR(F3="",F11=""),"Winner Game 10",IF(F3-F11>0,E3,E11)) -> Winner Game 10
E7: (Enter Game Time Here)
B8: Game 1
G9: Game 14
B10: (Enter Game Time Here)
E11: =IF(OR(C6="",C14=""),"Winner Game 1",IF(C6-C14>0,B6,B14)) -> Winner Game 1
G12: (Enter Game Time Here) | I12: =IF(OR(H6="",H17=""),"Winner Game 14",IF(H6-H17>0,G6,G17)) -> Winner Game 14
D13: 9th Seed | E13: =IF(E99="","",E99) -> 0
A14: 17th Seed | B14: =IF(E107="","",E107) -> 0
E15: Game 3
I16: Game 15
E17: (Enter Game Time Here) | G17: =IF(OR(F13="",F21=""),"Winner Game 3",IF(F13-F21>0,E13,E21)) -> Winner Game 3
D21: 8th Seed | E21: =IF(E92="","",E92) -> 0 | I21: (Enter Game Time Here) | K21: =IF(OR(J12="",J33=""),"Winner Game 15",IF(J12-J33>0,I12,I33)) -> Winner Game 15
D23: 4thSeed | E23: =IF(E94="","",E94) -> 0
E25: Game 4
G26: =IF(OR(F23="",F31=""),"Winner Game 4",IF(F23-F31>0,E23,E31)) -> Winner Game 4
E27: (Enter Game Time Here)
G29: Game 11
D31: 13th Seed | E31: =IF(E103="","",E103) -> 0
G32: (Enter Game Time Here)
D33: 12th Seed | E33: =IF(E102="","",E102) -> 0 | I33: =IF(OR(H26="",H37=""),"Winner Game 11",IF(H26-H37>0,G26,G37)) -> Winner Game 11
E35: Game 5
E37: (Enter Game Time Here) | G37: =IF(OR(F33="",F41=""),"Winner Game 5",IF(F33-F41>0,E33,E41)) -> Winner Game 5
K39: (Enter Game Time Here)
D41: 5th Seed | E41: =IF(E95="","",E95) -> 0 | K41: Game 17 | M41: =IF(OR(L21="",L63=""),"Champion",IF(L21-L63>0,K21,K63)) -> Champion
D44: 2nd Seed | E44: =IF(E92="","",E92) -> 0
E46: Game 9
A47: 15th Seed | B47: =IF(E105="","",E105) -> 0 | G47: =IF(OR(F44="",F52=""),"Winner Game 9",IF(F44-F52>0,E44,E52)) -> Winner Game 9
E48: (Enter Game Time Here)
B49: Game 2
G50: Game 13
B51: (Enter Game Time Here)
E52: =IF(OR(C47="",C55=""),"Winner Game 9",IF(C47-C55>0,B47,B55)) -> Winner Game 9
G53: (Enter Game Time Here) | I53: =IF(OR(H47="",H58=""),"Winner Game 13",IF(H47-H58>0,G47,G58)) -> Winner Game 13
D54: 10th Seed | E54: =IF(E100="","",E100) -> 0
A55: 18th Seed | B55: =IF(E108="","",E108) -> 0
E56: Game 6
I57: Game 16
...

Sheet 19 Team Single
D3: 1st Seed | E3: =IF(E91="","",E91) -> 0
E5: Game 11
A6: 16th Seed | B6: =IF(E106="","",E106) -> 0 | G6: =IF(OR(F3="",F11=""),"Winner Game 11",IF(F3-F11>0,E3,E11)) -> Winner Game 11
E7: (Enter Game Time Here)
B8: Game 1
G9: Game 15
B10: (Enter Game Time Here)
E11: =IF(OR(C6="",C14=""),"Winner Game 1",IF(C6-C14>0,B6,B14)) -> Winner Game 1
G12: (Enter Game Time Here) | I12: =IF(OR(H6="",H17=""),"Winner Game 15",IF(H6-H17>0,G6,G17)) -> Winner Game 15
D13: 9th Seed | E13: =IF(E99="","",E99) -> 0
A14: 17th Seed | B14: =IF(E107="","",E107) -> 0
E15: Game 4
I16: Game 16
E17: (Enter Game Time Here) | G17: =IF(OR(F13="",F21=""),"Winner Game 4",IF(F13-F21>0,E13,E21)) -> Winner Game 4
D21: 8th Seed | E21: =IF(E98="","",E98) -> 0 | I21: (Enter Game Time Here) | K21: =IF(OR(J12="",J33=""),"Winner Game 16",IF(J12-J33>0,I12,I33)) -> Winner Game 16
D23: 4thSeed | E23: =IF(E94="","",E94) -> 0
E25: Game 5
G26: =IF(OR(F23="",F31=""),"Winner Game 5",IF(F23-F31>0,E23,E31)) -> Winner Game 5
E27: (Enter Game Time Here)
G29: Game 12
D31: 13th Seed | E31: =IF(E103="","",E103) -> 0
G32: (Enter Game Time Here)
D33: 12th Seed | E33: =IF(E102="","",E102) -> 0 | I33: =IF(OR(H26="",H37=""),"Winner Game 12",IF(H26-H37>0,G26,G37)) -> Winner Game 12
E35: Game 6
E37: (Enter Game Time Here) | G37: =IF(OR(F33="",F41=""),"Winner Game 6",IF(F33-F41>0,E33,E41)) -> Winner Game 6
K39: (Enter Game Time Here)
D41: 5th Seed | E41: =IF(E95="","",E95) -> 0 | K41: Game 18 | M41: =IF(OR(L21="",L63=""),"Champion",IF(L21-L63>0,K21,K63)) -> Champion
D44: 2nd Seed | E44: =IF(E92="","",E92) -> 0
E46: Game 10
A47: 15th Seed | B47: =IF(E105="","",E105) -> 0 | G47: =IF(OR(F44="",F52=""),"Winner Game 10",IF(F44-F52>0,E44,E52)) -> Winner Game 10
E48: (Enter Game Time Here)
B49: Game 2
G50: Game 13
B51: (Enter Game Time Here)
E52: =IF(OR(C47="",C55=""),"Winner Game 9",IF(C47-C55>0,B47,B55)) -> Winner Game 9
G53: (Enter Game Time Here) | I53: =IF(OR(H47="",H58=""),"Winner Game 13",IF(H47-H58>0,G47,G58)) -> Winner Game 13
D54: 10th Seed | E54: =IF(E100="","",E100) -> 0
A55: 18th Seed | B55: =IF(E108="","",E108) -> 0
E56: Game 7
I57: Game 17
...

Sheet 20 Team Single
D3: 1st Seed | E3: =IF(E91="","",E91) -> 0
E5: Game 12
A6: 16th Seed | B6: =IF(E106="","",E106) -> 0 | G6: =IF(OR(F3="",F11=""),"Winner Game 12",IF(F3-F11>0,E3,E11)) -> Winner Game 12
E7: (Enter Game Time Here)
B8: Game 1
G9: Game 16
B10: (Enter Game Time Here)
E11: =IF(OR(C6="",C14=""),"Winner Game 1",IF(C6-C14>0,B6,B14)) -> Winner Game 1
G12: (Enter Game Time Here) | I12: =IF(OR(H6="",H17=""),"Winner Game 16",IF(H6-H17>0,G6,G17)) -> Winner Game 16
D13: 9th Seed | E13: =IF(E99="","",E99) -> 0
A14: 17th Seed | B14: =IF(E107="","",E107) -> 0
E15: Game 5
I16: Game 18
E17: (Enter Game Time Here) | G17: =IF(OR(F13="",F21=""),"Winner Game 5",IF(F13-F21>0,E13,E21)) -> Winner Game 5
D21: 8th Seed | E21: =IF(E98="","",E98) -> 0 | I21: (Enter Game Time Here) | K21: =IF(OR(J12="",J33=""),"Winner Game 18",IF(J12-J33>0,I12,I33)) -> Winner Game 18
D23: 4thSeed | E23: =IF(E94="","",E94) -> 0
E25: Game 9
G26: =IF(OR(F23="",F31=""),"Winner Game 9",IF(F23-F31>0,E23,E31)) -> Winner Game 9
A27: 13th Seed | B27: =IF(E103="","",E103) -> 0 | E27: (Enter Game Time Here)
B29: Game 3 | G29: Game 15
B31: (Enter Game Time Here) | E31: =IF(OR(C27="",C35=""),"Winner Game 3",IF(C27-C35>0,B27,B35)) -> Winner Game 3
G32: (Enter Game Time Here)
D33: 12th Seed | E33: =IF(E102="","",E102) -> 0 | I33: =IF(OR(H26="",H37=""),"Winner Game 15",IF(H26-H37>0,G26,G37)) -> Winner Game 15
A35: 20th Seed | B35: =IF(E110="","",E110) -> 0 | E35: Game 8
E37: (Enter Game Time Here) | G37: =IF(OR(F33="",F41=""),"Winner Game 8",IF(F33-F41>0,E33,E41)) -> Winner Game 8
K39: (Enter Game Time Here)
D41: 5th Seed | E41: =IF(E95="","",E95) -> 0 | K41: Game 19 | M41: =IF(OR(L21="",L63=""),"Champion",IF(L21-L63>0,K21,K63)) -> Champion
D44: 2nd Seed | E44: =IF(E92="","",E92) -> 0
E46: Game 11
A47: 15th Seed | B47: =IF(E105="","",E105) -> 0 | G47: =IF(OR(F44="",F52=""),"Winner Game 11",IF(F44-F52>0,E44,E52)) -> Winner Game 11
E48: (Enter Game Time Here)
B49: Game 2
G50: Game 13
B51: (Enter Game Time Here)
E52: =IF(OR(C47="",C55=""),"Winner Game 2",IF(C47-C55>0,B47,B55)) -> Winner Game 2
G53: (Enter Game Time Here) | I53: =IF(OR(H47="",H58=""),"Winner Game 13",IF(H47-H58>0,G47,G58)) -> Winner Game 13
D54: 10th Seed | E54: =IF(E100="","",E100) -> 0
A55: 18th Seed | B55: =IF(E108="","",E108) -> 0
E56: Game 6
I57: Game 17
...

Sheet 21 Team Single
D3: 1st Seed | E3: =IF(E157="","",E157) -> 0
E6: Game 13
G7: =IF(OR(F3="",F13=""),"Winner Game 13",IF(F3-F13>0,E3,E13)) -> Winner Game 13
A8: 16th Seed | B8: =IF(E172="","",E172) -> 0 | E8: (Enter Game Time Here)
B10: Game 1
B12: (Enter Game Time Here)
E13: =IF(OR(C8="",C16=""),"Winner Game 1",IF(C8-C16>0,B8,B16)) -> Winner Game 1 | G13: Game 17
G15: (Enter Game Time Here)
A16: 17th Seed | B16: =IF(E173="","",E173) -> 0 | I16: =IF(OR(H7="",H27=""),"Winner Game 17",IF(H7-H27>0,G7,G27)) -> Winner Game 17
D22: 9th Seed | E22: =IF(E165="","",E165) -> 0
E26: Game 6
G27: =IF(OR(F22="",F32=""),"Winner Game 6",IF(F22-F32>0,E22,E32)) -> Winner Game 6
E28: (Enter Game Time Here)
I30: Game 18
D32: 8th Seed | E32: =IF(E164="","",E164) -> 0 | I32: (Enter Game Time Here)
K35: =IF(OR(J16="",J54=""),"Winner Game 18",IF(J16-J54>0,I16,I54)) -> Winner Game 18
D41: 4thSeed | E41: =IF(E160="","",E160) -> 0
E45: Game 7 | G45: =IF(OR(F41="",F51=""),"Winner Game 7",IF(F41-F51>0,E41,E51)) -> Winner Game 7
A47: 13th Seed | B47: =IF(E169="","",E169) -> 0 | E47: (Enter Game Time Here)
B49: Game 2
B51: (Enter Game Time Here) | E51: =IF(OR(C47="",C55=""),"Winner Game 2",IF(C47-C55>0,B47,B55)) -> Winner Game 2
G52: Game 14
G54: (Enter Game Time Here) | I54: =IF(OR(H45="",H65=""),"Winner Game 14",IF(H45-H65>0,G45,G65)) -> Winner Game 14
A55: 20th Seed | B55: =IF(E176="","",E176) -> 0
A57: 12th Seed | B57: =IF(E168="","",E168) -> 0
B59: Game 3
E60: =IF(OR(C57="",C65=""),"Winner Game 3",IF(C57-C65>0,B57,B65)) -> Winner Game 3
B61: (Enter Game Time Here)
E64: Game 8
A65: 21th Seed | B65: =IF(E177="","",E177) -> 0 | G65: =IF(OR(F60="",F70=""),"Winner Game 8",IF(F60-F70>0,E60,E70)) -> Winner Game 8
E66: (Enter Game Time Here)
K67: (Enter Game Time Here)
M68: =IF(OR(L35="",L112=""),"Champion",IF(L35-L112>0,K35,K112)) -> Champion
K69: Game 20
D70: 5th Seed | E70: =IF(E161="","",E161) -> 0
D80: 2nd Seed | E80: =IF(E158="","",E158) -> 0
E84: Game 12 | G84: =IF(OR(F80="",F90=""),"Winner Game 12",IF(F80-F90>0,E80,E90)) -> Winner Game 12
A86: 15th Seed | B86: =IF(E171="","",E171) -> 0 | E86: (Enter Game Time Here)
B88: Game 4
B90: (Enter Game Time Here) | E90: =IF(OR(C68="",C76=""),"Winner Game 4",IF(C68-C76>0,B68,B76)) -> Winner Game 4
...

Sheet 22 Team Single
D3: 1st Seed | E3: =IF(E157="","",E157) -> 0
E6: Game 14
G7: =IF(OR(F3="",F13=""),"Winner Game 14",IF(F3-F13>0,E3,E13)) -> Winner Game 14
A8: 16th Seed | B8: =IF(E172="","",E172) -> 0 | E8: (Enter Game Time Here)
B10: Game 1
B12: (Enter Game Time Here)
E13: =IF(OR(C8="",C16=""),"Winner Game 1",IF(C8-C16>0,B8,B16)) -> Winner Game 1 | G13: Game 18
G15: (Enter Game Time Here)
A16: 17th Seed | B16: =IF(E173="","",E173) -> 0 | I16: =IF(OR(H7="",H27=""),"Winner Game 18",IF(H7-H27>0,G7,G27)) -> Winner Game 18
D22: 9th Seed | E22: =IF(E165="","",E165) -> 0
E26: Game 7
G27: =IF(OR(F22="",F32=""),"Winner Game 7",IF(F22-F32>0,E22,E32)) -> Winner Game 7
E28: (Enter Game Time Here)
I30: Game 19
D32: 8th Seed | E32: =IF(E164="","",E164) -> 0 | I32: (Enter Game Time Here)
K35: =IF(OR(J16="",J54=""),"Winner Game 19",IF(J16-J54>0,I16,I54)) -> Winner Game 19
D41: 4thSeed | E41: =IF(E160="","",E160) -> 0
E45: Game 8 | G45: =IF(OR(F41="",F51=""),"Winner Game 8",IF(F41-F51>0,E41,E51)) -> Winner Game 8
A47: 13th Seed | B47: =IF(E169="","",E169) -> 0 | E47: (Enter Game Time Here)
B49: Game 2
B51: (Enter Game Time Here) | E51: =IF(OR(C47="",C55=""),"Winner Game 2",IF(C47-C55>0,B47,B55)) -> Winner Game 2
G52: Game 15
G54: (Enter Game Time Here) | I54: =IF(OR(H45="",H65=""),"Winner Game 15",IF(H45-H65>0,G45,G65)) -> Winner Game 15
A55: 20th Seed | B55: =IF(E176="","",E176) -> 0
A57: 12th Seed | B57: =IF(E168="","",E168) -> 0
B59: Game 3
E60: =IF(OR(C57="",C65=""),"Winner Game 3",IF(C57-C65>0,B57,B65)) -> Winner Game 3
B61: (Enter Game Time Here)
E64: Game 13
A65: 21th Seed | B65: =IF(E177="","",E177) -> 0 | G65: =IF(OR(F60="",F70=""),"Winner Game 13",IF(F60-F70>0,E60,E70)) -> Winner Game 13
E66: (Enter Game Time Here)
K67: (Enter Game Time Here)
M68: =IF(OR(L35="",L112=""),"Champion",IF(L35-L112>0,K35,K112)) -> Champion
K69: Game 21
D70: 5th Seed | E70: =IF(E161="","",E161) -> 0
D80: 2nd Seed | E80: =IF(E158="","",E158) -> 0
E84: Game 12 | G84: =IF(OR(F80="",F90=""),"Winner Game 12",IF(F80-F90>0,E80,E90)) -> Winner Game 12
A86: 15th Seed | B86: =IF(E171="","",E171) -> 0 | E86: (Enter Game Time Here)
B88: Game 4
B90: (Enter Game Time Here) | E90: =IF(OR(C68="",C76=""),"Winner Game 4",IF(C68-C76>0,B68,B76)) -> Winner Game 4
...

Sheet 23 Team Single
D3: 1st Seed | E3: =IF(E157="","",E157) -> 0
E6: Game 15
G7: =IF(OR(F3="",F13=""),"Winner Game 15",IF(F3-F13>0,E3,E13)) -> Winner Game 15
A8: 16th Seed | B8: =IF(E172="","",E172) -> 0 | E8: (Enter Game Time Here)
B10: Game 1
B12: (Enter Game Time Here)
E13: =IF(OR(C8="",C16=""),"Winner Game 1",IF(C8-C16>0,B8,B16)) -> Winner Game 1 | G13: Game 19
G15: (Enter Game Time Here)
A16: 17th Seed | B16: =IF(E173="","",E173) -> 0 | I16: =IF(OR(H7="",H27=""),"Winner Game 18",IF(H7-H27>0,G7,G27)) -> Winner Game 18
D22: 9th Seed | E22: =IF(E165="","",E165) -> 0
E26: Game 8
G27: =IF(OR(F22="",F32=""),"Winner Game 8",IF(F22-F32>0,E22,E32)) -> Winner Game 8
E28: (Enter Game Time Here)
I30: Game 20
D32: 8th Seed | E32: =IF(E164="","",E164) -> 0 | I32: (Enter Game Time Here)
K35: =IF(OR(J16="",J54=""),"Winner Game 19",IF(J16-J54>0,I16,I54)) -> Winner Game 19
D41: 4thSeed | E41: =IF(E160="","",E160) -> 0
E45: Game 9 | G45: =IF(OR(F41="",F51=""),"Winner Game 9",IF(F41-F51>0,E41,E51)) -> Winner Game 9
A47: 13th Seed | B47: =IF(E169="","",E169) -> 0 | E47: (Enter Game Time Here)
B49: Game 2
B51: (Enter Game Time Here) | E51: =IF(OR(C47="",C55=""),"Winner Game 2",IF(C47-C55>0,B47,B55)) -> Winner Game 2
G52: Game 16
G54: (Enter Game Time Here) | I54: =IF(OR(H45="",H65=""),"Winner Game 15",IF(H45-H65>0,G45,G65)) -> Winner Game 15
A55: 20th Seed | B55: =IF(E176="","",E176) -> 0
A57: 12th Seed | B57: =IF(E168="","",E168) -> 0
B59: Game 3
E60: =IF(OR(C57="",C65=""),"Winner Game 3",IF(C57-C65>0,B57,B65)) -> Winner Game 3
B61: (Enter Game Time Here)
E64: Game 14
A65: 21th Seed | B65: =IF(E177="","",E177) -> 0 | G65: =IF(OR(F60="",F70=""),"Winner Game 14",IF(F60-F70>0,E60,E70)) -> Winner Game 14
E66: (Enter Game Time Here)
K67: (Enter Game Time Here)
M68: =IF(OR(L35="",L112=""),"Champion",IF(L35-L112>0,K35,K112)) -> Champion
K69: Game 22
D70: 5th Seed | E70: =IF(E161="","",E161) -> 0
D80: 2nd Seed | E80: =IF(E158="","",E158) -> 0
E84: Game 13 | G84: =IF(OR(F80="",F90=""),"Winner Game 13",IF(F80-F90>0,E80,E90)) -> Winner Game 13
A86: 15th Seed | B86: =IF(E171="","",E171) -> 0 | E86: (Enter Game Time Here)
B88: Game 4
B90: (Enter Game Time Here) | E90: =IF(OR(C68="",C76=""),"Winner Game 4",IF(C68-C76>0,B68,B76)) -> Winner Game 4
...

Sheet 24 Team Single
D3: 1st Seed | E3: =IF(E157="","",E157) -> 0
E6: Game 16
G7: =IF(OR(F3="",F13=""),"Winner Game 16",IF(F3-F13>0,E3,E13)) -> Winner Game 16
A8: 16th Seed | B8: =IF(E172="","",E172) -> 0 | E8: (Enter Game Time Here)
B10: Game 1
B12: (Enter Game Time Here)
E13: =IF(OR(C8="",C16=""),"Winner Game 1",IF(C8-C16>0,B8,B16)) -> Winner Game 1 | G13: Game 20
G15: (Enter Game Time Here)
A16: 17th Seed | B16: =IF(E173="","",E173) -> 0 | I16: =IF(OR(H7="",H27=""),"Winner Game 20",IF(H7-H27>0,G7,G27)) -> Winner Game 20
A18: 9th Seed | B18: =IF(E165="","",E165) -> 0
B20: Game 2
B22: (Enter Game Time Here) | E22: =IF(OR(C18="",C26=""),"Winner Game 2",IF(C18-C26>0,B18,B26)) -> Winner Game 2
A26: 24th Seed | B26: =IF(E180="","",E180) -> 0 | E26: Game 9
G27: =IF(OR(F22="",F32=""),"Winner Game 9",IF(F22-F32>0,E22,E32)) -> Winner Game 9
E28: (Enter Game Time Here)
I30: Game 22
D32: 8th Seed | E32: =IF(E164="","",E164) -> 0 | I32: (Enter Game Time Here)
K35: =IF(OR(J16="",J54=""),"Winner Game 22",IF(J16-J54>0,I16,I54)) -> Winner Game 22
D41: 4thSeed | E41: =IF(E160="","",E160) -> 0
E45: Game 10 | G45: =IF(OR(F41="",F51=""),"Winner Game 10",IF(F41-F51>0,E41,E51)) -> Winner Game 10
A47: 13th Seed | B47: =IF(E169="","",E169) -> 0 | E47: (Enter Game Time Here)
B49: Game 3
B51: (Enter Game Time Here) | E51: =IF(OR(C47="",C55=""),"Winner Game 3",IF(C47-C55>0,B47,B55)) -> Winner Game 3
G52: Game 18
G54: (Enter Game Time Here) | I54: =IF(OR(H45="",H65=""),"Winner Game 18",IF(H45-H65>0,G45,G65)) -> Winner Game 18
A55: 20th Seed | B55: =IF(E176="","",E176) -> 0
A57: 12th Seed | B57: =IF(E168="","",E168) -> 0
B59: Game 4
E60: =IF(OR(C57="",C65=""),"Winner Game 4",IF(C57-C65>0,B57,B65)) -> Winner Game 4
B61: (Enter Game Time Here)
E64: Game 14
A65: 21th Seed | B65: =IF(E177="","",E177) -> 0 | G65: =IF(OR(F60="",F70=""),"Winner Game 14",IF(F60-F70>0,E60,E70)) -> Winner Game 14
E66: (Enter Game Time Here)
K67: (Enter Game Time Here)
M68: =IF(OR(L35="",L112=""),"Champion",IF(L35-L112>0,K35,K112)) -> Champion
K69: Game 23
D70: 5th Seed | E70: =IF(E161="","",E161) -> 0
D80: 2nd Seed | E80: =IF(E158="","",E158) -> 0
E84: Game 15 | G84: =IF(OR(F80="",F90=""),"Winner Game 15",IF(F80-F90>0,E80,E90)) -> Winner Game 15
A86: 15th Seed | B86: =IF(E171="","",E171) -> 0 | E86: (Enter Game Time Here)
...
